Workbook

Sheet 1. Cover Sheet
A1: Council Name | B1: Jersey County ROSC Council
A2: Lead Agency | B2: Jersey County Health Department
A3: Lead Agency Address | B3: 1307 State Highway 109 Jerseyville, IL. 62052
A4: Project Coordinator(s) | B4: Rachel Klocke
A5: Project Coordinator(s) Phone Number | B5: 618-498-9565 x320
A6: Coordinator(s) Email | B6: rklocke@jerseycountyhealth.org
A7: Additional Contact/Supervisor | B7: Becky Shipley
A8: Additional Contact Email and Phone Number | B8: bshipley@jerseycountyhealth.org
A9: Geographical Location(s) Covered | B9: Jerseyville, Grafton, Brighton, Kane,
A10: DHS Region | B10: Region 4

Sheet 2. ROSC Active
A1: ROSC Member Name | B1: Date Membership Began | C1: Sector | D1: Agency/Connection | E1: July '26 | F1: Aug. '26 | G1: Sep. '26 | H1: Oct. '26 | I1: Nov. '26 | J1: Dec. '26 | K1: Jan. '27 | L1: Feb. '27 | M1: Mar. '27 | N1: Apr. '27 | O1: May '27 | P1: June '27 | Q1: # of Meetings Attended in FY27 | R1: Additional Information
A2: Example (Replace this line!): Deputy Jane Smith | B2: 46204 | C2: Law Enforcement: ISP | D2: Illinois State Police District 10 | F2: 1 | I2: 1 | J2: 1 | K2: 1 | N2: 1 | O2: 1 | Q2: 6 | R2: She joined in 2026, but ISP has been attending since 2022.
A3: Emily Simpson | B3: 45859 | C3: Service Providers: Other | D3: Koen Counseling and Wellness Center | Q3: =SUM(E3:P3) -> 0
A4: Codi Poe | B4: 45859 | C4: Judicial: Probation | D4: Probation, Drug Court Coordinator | Q4: =SUM(E4:P4) -> 0
A5: Sarah Crawford | B5: 45859 | C5: Treatment: Withdrawal Management Program | D5: Grants and Population Health Manager, substance Use Treatment: Withdrawal Management Program | Q5: =SUM(E5:P5) -> 0
A6: Rita Robertson | B6: 45859 | C6: Youth-Serving: Local Prevention Providers | D6: Jersey Co School District | Q6: =SUM(E6:P6) -> 0
A7: Erin Hileman | B7: 45859 | C7: Treatment: Local Provider | D7: MAR clinic provider | Q7: =SUM(E7:P7) -> 0
A8: Becky Shipley | B8: 45859 | C8: Healthcare: County Health Department | D8: Jersey Co Health Department | Q8: =SUM(E8:P8) -> 0
A9: Heidi Carter | B9: 45859 | C9: Healthcare: County Health Department | D9: Jersey Co Health Department | Q9: =SUM(E9:P9) -> 0
A10: Keppen Clanton | B10: 45859 | C10: Education: Local K-12 | D10: Regoin 40 Birth to Five | Q10: =SUM(E10:P10) -> 0
A11: Meagan McGlasson | B11: 45868 | C11: Healthcare: Other | D11: Illinois Recovery Center | Q11: =SUM(E11:P11) -> 0
A12: Nicholas Settles | B12: 46054 | C12: PLE: Substance Use | D12: Recovery Corps | Q12: =SUM(E12:P12) -> 0
A13: Shannon Tewell | B13: 46174 | C13: Treatment: Hospital Program | D13: OSF New Vision Withdrawal Management Program | Q13: =SUM(E13:P13) -> 0
A14: Patrick Miller | B14: 45910 | C14: Faith-based: Other | D14: Community Health Specialist with Chestnut | Q14: =SUM(E14:P14) -> 0
... A17: AmandaTaul | B17: 46143 | C17: Recovery Supports: Other | D17: TASC | Q17: =SUM(E17:P17) -> 0
A18: Derrick Benedict | B18: 46188 | C18: PLE: Substance Use | Q18: =SUM(E18:P18) -> 0
A19: Marc Lane | B19: 46204 | C19: Faith-based: Ministerial Alliance | D19: CR- Alton | Q19: =SUM(E19:P19) -> 0
Q20: =SUM(E20:P20) -> 0
Q21: =SUM(E21:P21) -> 0
Q22: =SUM(E22:P22) -> 0
Q23: =SUM(E23:P23) -> 0
Q24: =SUM(E24:P24) -> 0
Q25: =SUM(E25:P25) -> 0
Q26: =SUM(E26:P26) -> 0
Q27: =SUM(E27:P27) -> 0
Q28: =SUM(E28:P28) -> 0
Q29: =SUM(E29:P29) -> 0
Q30: =SUM(E30:P30) -> 0
Q31: =SUM(E31:P31) -> 0
... Q251: =SUM(E251:P251) -> 0

Sheet 3. Sector Information
A1: The following list will help in determining sector representation on the ROSC Councils. The first column lists 15 community sectors. Columns 2 through 5 provide additional possible roles within each sector and will help to determine missing sectors/representation on the council. | J1: DO NOT EDIT | K1: COUNT
A2: Sector | B2: Additional Sector Information | J2: Business: Local Business | K2: =COUNTIF('2. ROSC Active'!C2:C251,J2) -> 0
A3: Person with Lived Experience | B3: PLE: Substance Use | C3: PLE: Mental Health | D3: PLE: Other | J3: Business: Chamber of Commerce | K3: =COUNTIF('2. ROSC Active'!C2:C251,J3) -> 0
A4: Recovery Supports | B4: Recovery Supports: RCO | C4: Recovery Supports: 12 step or other group | D4: Recovery Supports: Housing | E4: Recovery Supports: Other | J4: Business: Other | K4: =COUNTIF('2. ROSC Active'!C2:C251,J4) -> 0
A5: Faith-based Groups | B5: Faith-based: Local Pastor | C5: Faith-based: Ministerial Alliance | D5: Faith-based: Other | J5: Education: GED programs | K5: =COUNTIF('2. ROSC Active'!C2:C251,J5) -> 0
A6: Family/Parents | B6: Family: Substance Use | C6: Family: Mental Health | D6: Family: Other | J6: Education: Local K-12 | K6: =COUNTIF('2. ROSC Active'!C2:C251,J6) -> 1
A7: Service Providers | B7: Service Providers: Harm Reduction | C7: Service Providers: Programs for Unhoused Individuals | D7: Service Providers: Employment Programs | E7: Service Providers: Violence Prevention | F7: Service Providers: Other | J7: Education: Local University | K7: =COUNTIF('2. ROSC Active'!C2:C251,J7) -> 0
A8: State/Local/Tribal Government | B8: Government: Local Official | C8: Government: County Official | D8: Government: 708 Board | E8: Government: State Official | F8: Government: Re-entry programs | J8: Education: Other | K8: =COUNTIF('2. ROSC Active'!C2:C251,J8) -> 0
A9: Substance Use/Mental Health Treatment Organizations | B9: Treatment: Local Provider | C9: Treatment: Hospital Program | D9: Treatment: Withdrawal Management Program | E9: Treatment: Other | J9: Faith-based: Local Pastor | K9: =COUNTIF('2. ROSC Active'!C2:C251,J9) -> 0
A10: Healthcare | B10: Healthcare: MAR Prescriber | C10: Healthcare: Hospital | D10: Healthcare: County Health Department | E10: Healthcare: Other | J10: Faith-based: Ministerial Alliance | K10: =COUNTIF('2. ROSC Active'!C2:C251,J10) -> 1
A11: Law Enforcement | B11: Law Enforcement: Local Police | C11: Law Enforcement: County Sheriff's Dept. | D11: Law Enforcement: ISP | E11: Law Enforcement: State Attorney's Office | F11: Law Enforcement: Other | J11: Faith-based: Other | K11: =COUNTIF('2. ROSC Active'!C2:C251,J11) -> 1
A12: Judicial | B12: Judicial: Drug Court Representative | C12: Judicial: Public Defender's Office | D12: Judicial: Probation | E12: Judicial: Other | J12: Family: Mental Health | K12: =COUNTIF('2. ROSC Active'!C2:C251,J12) -> 0
A13: Volunteer/Civic Organizations | B13: Volunteer: Drug Free Coalitions | C13: Volunteer: Other | J13: Family: Other | K13: =COUNTIF('2. ROSC Active'!C2:C251,J13) -> 0
A14: Education/Schools | B14: Education: Local University | C14: Education: GED programs | D14: Education: Local K-12 | E14: Education: Other | J14: Family: Substance Use | K14: =COUNTIF('2. ROSC Active'!C2:C251,J14) -> 0
A15: Youth-Serving Organizations | B15: Youth-Serving: Local Prevention Providers | C15: Youth-Serving: Other | J15: Government: 708 Board | K15: =COUNTIF('2. ROSC Active'!C2:C251,J15) -> 0
A16: Media | B16: Media: All | J16: Government: County Official | K16: =COUNTIF('2. ROSC Active'!C2:C251,J16) -> 0
A17: Business | B17: Business: Local Business | C17: Business: Chamber of Commerce | D17: Business: Other | J17: Government: Local Official | K17: =COUNTIF('2. ROSC Active'!C2:C251,J17) -> 0
J18: Government: Re-entry programs | K18: =COUNTIF('2. ROSC Active'!C2:C251,J18) -> 0
J19: Government: State Official | K19: =COUNTIF('2. ROSC Active'!C2:C251,J19) -> 0
J20: Healthcare: County Health Department | K20: =COUNTIF('2. ROSC Active'!C2:C251,J20) -> 2
J21: Healthcare: Hospital | K21: =COUNTIF('2. ROSC Active'!C2:C251,J21) -> 0
J22: Healthcare: MAR Prescriber | K22: =COUNTIF('2. ROSC Active'!C2:C251,J22) -> 0
J23: Healthcare: Other | K23: =COUNTIF('2. ROSC Active'!C2:C251,J23) -> 1
J24: Judicial: Drug Court Representative | K24: =COUNTIF('2. ROSC Active'!C2:C251,J24) -> 0
J25: Judicial: Other | K25: =COUNTIF('2. ROSC Active'!C2:C251,J25) -> 0
J26: Judicial: Probation | K26: =COUNTIF('2. ROSC Active'!C2:C251,J26) -> 1
J27: Judicial: Public Defender's Office | K27: =COUNTIF('2. ROSC Active'!C2:C251,J27) -> 0
J28: Law Enforcement: State Attorney's Office | K28: =COUNTIF('2. ROSC Active'!C2:C251,J28) -> 0
J29: Law Enforcement: County Sheriff's Dept. | K29: =COUNTIF('2. ROSC Active'!C2:C251,J29) -> 0
J30: Law Enforcement: ISP | K30: =COUNTIF('2. ROSC Active'!C2:C251,J30) -> 1
J31: Law Enforcement: Local Police | K31: =COUNTIF('2. ROSC Active'!C2:C251,J31) -> 0
J32: Law Enforcement: Other | K32: =COUNTIF('2. ROSC Active'!C2:C251,J32) -> 0
J33: Media: All | K33: =COUNTIF('2. ROSC Active'!C2:C251,J33) -> 0
J34: PLE: Mental Health | K34: =COUNTIF('2. ROSC Active'!C2:C251,J34) -> 0
J35: PLE: Other | K35: =COUNTIF('2. ROSC Active'!C2:C251,J35) -> 0
J36: PLE: Substance Use | K36: =COUNTIF('2. ROSC Active'!C2:C251,J36) -> 2
J37: Recovery Supports: 12 step or other group | K37: =COUNTIF('2. ROSC Active'!C2:C251,J37) -> 0
J38: Recovery Supports: Housing | K38: =COUNTIF('2. ROSC Active'!C2:C251,J38) -> 0
J39: Recovery Supports: Other | K39: =COUNTIF('2. ROSC Active'!C2:C251,J39) -> 2
J40: Recovery Supports: RCO | K40: =COUNTIF('2. ROSC Active'!C2:C251,J40) -> 0
...
